BEGIN:VCALENDAR
VERSION:2.0
PRODID:-//My Community Diary//iCal Event//EN
CALSCALE:GREGORIAN
METHOD:PUBLISH
BEGIN:VEVENT
UID:08215503-cad6-4856-98fc-a0009a45b688
DTSTAMP:20260422T002144Z
DTSTART;TZID=E. Australia Standard Time:20260502T130000
DTEND;TZID=E. Australia Standard Time:20260502T160000
SUMMARY:Polymer Clay Jewellery Masterclass for Beginners
DESCRIPTION:You must book before attending. To learn more about this class and to book\, \n                                    please visit ClassBento's website via the 'Access Event' button above.
LOCATION:\, 4 Conway Court\, Bli Bli QLD\, QLD\, 4560
END:VEVENT
END:VCALENDAR
