BEGIN:VCALENDAR
VERSION:2.0
PRODID:-//My Community Diary//iCal Event//EN
CALSCALE:GREGORIAN
METHOD:PUBLISH
BEGIN:VEVENT
UID:6382c091-4849-4654-bd74-47af34a0dd85
DTSTAMP:20260422T032036Z
DTSTART;TZID=E. Australia Standard Time:20260601T163000
DTEND;TZID=E. Australia Standard Time:20260601T180000
SUMMARY:Creative Art Course for Teens
DESCRIPTION:You must book before attending. To learn more about this class and to book\, \n                                    please visit ClassBento's website via the 'Access Event' button above.
LOCATION:\, 11 Timbarra Drive\, Beechmont QLD\, QLD\, 4211
END:VEVENT
END:VCALENDAR
