BEGIN:VCALENDAR
VERSION:2.0
PRODID:-//My Community Diary//iCal Event//EN
CALSCALE:GREGORIAN
METHOD:PUBLISH
BEGIN:VEVENT
UID:4b6e0f0a-914c-4fef-b658-677f75854c82
DTSTAMP:20260421T222707Z
DTSTART;TZID=E. Australia Standard Time:20260525T163000
DTEND;TZID=E. Australia Standard Time:20260525T180000
SUMMARY:Creative Art Course for Teens
DESCRIPTION:You must book before attending. To learn more about this class and to book\, \n                                    please visit ClassBento's website via the 'Access Event' button above.
LOCATION:\, 11 Timbarra Drive\, Beechmont QLD\, QLD\, 4211
END:VEVENT
END:VCALENDAR
