BEGIN:VCALENDAR
VERSION:2.0
PRODID:-//My Community Diary//iCal Event//EN
CALSCALE:GREGORIAN
METHOD:PUBLISH
BEGIN:VEVENT
UID:6e657d12-193f-43bf-bb61-48f4a1c1a713
DTSTAMP:20260422T013837Z
DTSTART;TZID=E. Australia Standard Time:20260525T143000
DTEND;TZID=E. Australia Standard Time:20260525T160000
SUMMARY:Paint and Spin Wheel Throwing Class
DESCRIPTION:You must book before attending. To learn more about this class and to book\, \n                                    please visit ClassBento's website via the 'Access Event' button above.
LOCATION:\, 161 Long Road\, Tamborine Mountain QLD\, QLD\, 4272
END:VEVENT
END:VCALENDAR
