BEGIN:VCALENDAR
VERSION:2.0
PRODID:-//My Community Diary//iCal Event//EN
CALSCALE:GREGORIAN
METHOD:PUBLISH
BEGIN:VEVENT
UID:2e46f84d-e4d3-4f77-8d8a-3f527cff1d1a
DTSTAMP:20260422T035803Z
DTSTART;TZID=E. Australia Standard Time:20260508T160000
DTEND;TZID=E. Australia Standard Time:20260508T180000
SUMMARY:Lost Wax Ring Carving Workshop
DESCRIPTION:You must book before attending. To learn more about this class and to book\, \n                                    please visit ClassBento's website via the 'Access Event' button above.
LOCATION:\, 79 Memorial Drive\, Eumundi QLD\, QLD\, 4562
END:VEVENT
END:VCALENDAR
