BEGIN:VCALENDAR
VERSION:2.0
PRODID:-//My Community Diary//iCal Event//EN
CALSCALE:GREGORIAN
METHOD:PUBLISH
BEGIN:VEVENT
UID:82c1ee27-b5c6-46d8-8cd1-365eb07bc6af
DTSTAMP:20260422T032311Z
DTSTART;TZID=E. Australia Standard Time:20260524T130000
DTEND;TZID=E. Australia Standard Time:20260524T160000
SUMMARY:Stained Glass Sun Panel Workshop
DESCRIPTION:You must book before attending. To learn more about this class and to book\, \n                                    please visit ClassBento's website via the 'Access Event' button above.
LOCATION:\, Buderim Craft Cottage\, Main Street\, Buderim QLD\, QLD\, 4556
END:VEVENT
END:VCALENDAR
