BEGIN:VCALENDAR
VERSION:2.0
PRODID:-//My Community Diary//iCal Event//EN
CALSCALE:GREGORIAN
METHOD:PUBLISH
BEGIN:VEVENT
UID:ba02f705-dc81-4cb7-b91d-4a5ac89af06e
DTSTAMP:20260421T222642Z
DTSTART;TZID=E. Australia Standard Time:20260524T143000
DTEND;TZID=E. Australia Standard Time:20260524T160000
SUMMARY:Make a Buddha Bowl Class
DESCRIPTION:You must book before attending. To learn more about this class and to book\, \n                                    please visit ClassBento's website via the 'Access Event' button above.
LOCATION:\, 161 Long Road\, Tamborine Mountain QLD\, QLD\, 4272
END:VEVENT
END:VCALENDAR
