BEGIN:VCALENDAR
VERSION:2.0
PRODID:-//My Community Diary//iCal Event//EN
CALSCALE:GREGORIAN
METHOD:PUBLISH
BEGIN:VEVENT
UID:a6d63114-af93-44c6-be2b-590b80ea80c7
DTSTAMP:20260422T021924Z
DTSTART;TZID=AUS Eastern Standard Time:20260824T100000
DTEND;TZID=AUS Eastern Standard Time:20260824T121500
SUMMARY:ArtsNational Newcastle
DESCRIPTION:For our second morning lecture for 2026 is from&nbsp\;Mark Cottle &nbsp\;"Tragedy and Triumph: Polar Exploration".&nbsp\; Through his presentation of&nbsp\;photos and watercolours you can learn of&nbsp\;Robert Scott\, Roald Amunsden and their race to the South Pole.&nbsp\;\n\nLight drinks and refreshments are included at the Apollo venue.\n\nFollowing morning tea\, explore Shackleton and the Endurance expedition with the help of the expedition's photographs.\n
LOCATION:Apollo International Hotel Charlestown\, Newcastle NSW\, Australia\, NSW
END:VEVENT
END:VCALENDAR
