BEGIN:VCALENDAR
VERSION:2.0
PRODID:-//My Community Diary//iCal Event//EN
CALSCALE:GREGORIAN
METHOD:PUBLISH
BEGIN:VEVENT
UID:e2c4a496-91b4-4479-86ce-1f618a2f1265
DTSTAMP:20260422T003011Z
DTSTART;TZID=E. Australia Standard Time:20260501T160000
DTEND;TZID=E. Australia Standard Time:20260501T180000
SUMMARY:Lost Wax Ring Carving Workshop
DESCRIPTION:You must book before attending. To learn more about this class and to book\, \n                                    please visit ClassBento's website via the 'Access Event' button above.
LOCATION:\, 79 Memorial Drive\, Eumundi QLD\, QLD\, 4562
END:VEVENT
END:VCALENDAR
