BEGIN:VCALENDAR
VERSION:2.0
PRODID:-//My Community Diary//iCal Event//EN
CALSCALE:GREGORIAN
METHOD:PUBLISH
BEGIN:VEVENT
UID:4a10b2de-1446-4713-9040-7c53e9564010
DTSTAMP:20260421T222315Z
DTSTART;TZID=E. Australia Standard Time:20260522T180000
DTEND;TZID=E. Australia Standard Time:20260522T210000
SUMMARY:Authentic Italian Cooking Class: Hands-On Italian Feast
DESCRIPTION:You must book before attending. To learn more about this class and to book\, \n                                    please visit ClassBento's website via the 'Access Event' button above.
LOCATION:\, The Studio Cooking School @ VENU 12/44-48 Junction Drive\, Coolum Beach QLD\, QLD\, 4573
END:VEVENT
END:VCALENDAR
