BEGIN:VCALENDAR
VERSION:2.0
PRODID:-//My Community Diary//iCal Event//EN
CALSCALE:GREGORIAN
METHOD:PUBLISH
BEGIN:VEVENT
UID:1bc3aa92-a544-441f-951f-65ed58cbe560
DTSTAMP:20260422T021825Z
DTSTART;TZID=E. Australia Standard Time:20260424T160000
DTEND;TZID=E. Australia Standard Time:20260424T180000
SUMMARY:Lost Wax Ring Carving Workshop
DESCRIPTION:You must book before attending. To learn more about this class and to book\, \n                                    please visit ClassBento's website via the 'Access Event' button above.
LOCATION:\, 79 Memorial Drive\, Eumundi QLD\, QLD\, 4562
END:VEVENT
END:VCALENDAR
