BEGIN:VCALENDAR
VERSION:2.0
PRODID:-//My Community Diary//iCal Event//EN
CALSCALE:GREGORIAN
METHOD:PUBLISH
BEGIN:VEVENT
UID:daada97a-9a30-4786-88e5-bb60dafc147d
DTSTAMP:20260421T222238Z
DTSTART;TZID=E. Australia Standard Time:20260508T180000
DTEND;TZID=E. Australia Standard Time:20260508T210000
SUMMARY:Authentic Italian Cooking Class: Hands-On Italian Feast
DESCRIPTION:You must book before attending. To learn more about this class and to book\, \n                                    please visit ClassBento's website via the 'Access Event' button above.
LOCATION:\, The Studio Cooking School @ VENU 12/44-48 Junction Drive\, Coolum Beach QLD\, QLD\, 4573
END:VEVENT
END:VCALENDAR
