BEGIN:VCALENDAR
VERSION:2.0
PRODID:-//My Community Diary//iCal Event//EN
CALSCALE:GREGORIAN
METHOD:PUBLISH
BEGIN:VEVENT
UID:83bb02e9-1eec-4246-8200-23878a332040
DTSTAMP:20260422T035727Z
DTSTART;TZID=AUS Eastern Standard Time:20260518T183000
DTEND;TZID=AUS Eastern Standard Time:20260518T193000
SUMMARY:ArtsNational Newcastle
DESCRIPTION:In the evening of May 18 our speaker Joanne Rhymer will examine&nbsp\;"The Artist's Model: Whistler and Joanna Hifferman".&nbsp\;The questions are&nbsp\;- Was Joanna Hifferman simply his model and lover or&nbsp\;could&nbsp\;she have been an essential collaborator who influenced Whistler's artistic vision\, assisting him in his development of a new pictorial language?\n
LOCATION:Hunter School of Performing Arts Theatre\, Hunter School of The Performing Arts\, Lambton Road\, Broadmeadow NSW\, Australia\, NSW\, 2292
END:VEVENT
END:VCALENDAR
