BEGIN:VCALENDAR
VERSION:2.0
PRODID:-//My Community Diary//iCal Event//EN
CALSCALE:GREGORIAN
METHOD:PUBLISH
BEGIN:VEVENT
UID:8c37aea5-a826-4c46-91de-9ca4f2e6b5b3
DTSTAMP:20260422T002112Z
DTSTART;TZID=E. Australia Standard Time:20260508T113000
DTEND;TZID=E. Australia Standard Time:20260508T123000
SUMMARY:Distillery Tour and Tasting
DESCRIPTION:You must book before attending. To learn more about this class and to book\, \n                                    please visit ClassBento's website via the 'Access Event' button above.
LOCATION:\, Tamborine Mountain QLD 4272\, QLD\, 4272
END:VEVENT
END:VCALENDAR
