BEGIN:VCALENDAR
VERSION:2.0
PRODID:-//My Community Diary//iCal Event//EN
CALSCALE:GREGORIAN
METHOD:PUBLISH
BEGIN:VEVENT
UID:73011e3a-c8f7-4a05-87df-5dfcac169eaa
DTSTAMP:20260421T222752Z
DTSTART;TZID=E. Australia Standard Time:20260510T123000
DTEND;TZID=E. Australia Standard Time:20260510T140000
SUMMARY:Make a Matcha Ritual Set Class
DESCRIPTION:You must book before attending. To learn more about this class and to book\, \n                                    please visit ClassBento's website via the 'Access Event' button above.
LOCATION:\, 161 Long Road\, Tamborine Mountain QLD\, QLD\, 4272
END:VEVENT
END:VCALENDAR
