BEGIN:VCALENDAR
VERSION:2.0
PRODID:-//My Community Diary//iCal Event//EN
CALSCALE:GREGORIAN
METHOD:PUBLISH
BEGIN:VEVENT
UID:e5ebd32c-f34a-4179-9ce4-7e7aff5e541c
DTSTAMP:20260424T164434Z
DTSTART:20240331T120000Z
DTEND:20240331T210000Z
SUMMARY:Back O' Bourke Picnic Races
DESCRIPTION:The Easter Sunday race day includes a five race program with the feature race being the Harry Hart Memorial Cup sponsored by Rice’s Back O Bourke Cordials. It is a great weekend of racing and really shows that racing is alive and well out west.\n\n Other attractions on the day will include a variety of food stalls and Fashions on the Field.  Last year’s competition proved to be competitive and attracted a very classy group of participants including the teens and children’s categories. The much coveted best dressed lady and man are one of the highlights of the day.\n\n A full bar will be in operation along with TAB and betting facilities. The Club will have its merchandise for sale and includes both stubby holders and mesh trucker caps which will be available over the weekend and on the day.\n\nThe committee looks forward to another successful race day and is one not be missed. It is a great family day out\, so come and join us.\n\nEntry Cost\nAll tickets $0  - Children under five free
LOCATION:\, Anson Street W and Culgoa Street\, Bourke\, NSW 2840\, NSW\, 2840
END:VEVENT
END:VCALENDAR
