BEGIN:VCALENDAR
VERSION:2.0
PRODID:-//My Community Diary//iCal Event//EN
CALSCALE:GREGORIAN
METHOD:PUBLISH
BEGIN:VEVENT
UID:9f8e0ec7-ec2d-4a08-9c08-8370edee574a
DTSTAMP:20260422T000555Z
DTSTART;TZID=E. Australia Standard Time:20260518T163000
DTEND;TZID=E. Australia Standard Time:20260518T180000
SUMMARY:Creative Art Course for Teens
DESCRIPTION:You must book before attending. To learn more about this class and to book\, \n                                    please visit ClassBento's website via the 'Access Event' button above.
LOCATION:\, 11 Timbarra Drive\, Beechmont QLD\, QLD\, 4211
END:VEVENT
END:VCALENDAR
