BEGIN:VCALENDAR
VERSION:2.0
PRODID:-//My Community Diary//iCal Event//EN
CALSCALE:GREGORIAN
METHOD:PUBLISH
BEGIN:VEVENT
UID:2c402dd1-4006-4614-97b6-1116b411f9b0
DTSTAMP:20260424T125846Z
DTSTART;TZID=E. Australia Standard Time:20260425T090000
DTEND;TZID=E. Australia Standard Time:20260425T110000
SUMMARY:Mindful Journaling Art Workshop
DESCRIPTION:You must book before attending. To learn more about this class and to book\, \n                                    please visit ClassBento's website via the 'Access Event' button above.
LOCATION:\, 184 Main Street\, Montville QLD\, QLD\, 4560
END:VEVENT
END:VCALENDAR
