BEGIN:VCALENDAR
VERSION:2.0
PRODID:-//My Community Diary//iCal Event//EN
CALSCALE:GREGORIAN
METHOD:PUBLISH
BEGIN:VEVENT
UID:1d9fdb42-0a19-4b24-98f0-5382866f5531
DTSTAMP:20260422T015727Z
DTSTART;TZID=E. Australia Standard Time:20260517T090000
DTEND;TZID=E. Australia Standard Time:20260517T110000
SUMMARY:Beginners Pottery Wheel Workshop
DESCRIPTION:You must book before attending. To learn more about this class and to book\, \n                                    please visit ClassBento's website via the 'Access Event' button above.
LOCATION:\, 184 Main Street\, Montville QLD\, QLD\, 4560
END:VEVENT
END:VCALENDAR
