BEGIN:VCALENDAR
VERSION:2.0
PRODID:-//My Community Diary//iCal Event//EN
CALSCALE:GREGORIAN
METHOD:PUBLISH
BEGIN:VEVENT
UID:3489b19d-8c83-44ea-bdda-accd3999d671
DTSTAMP:20260421T222459Z
DTSTART;TZID=E. Australia Standard Time:20260517T103000
DTEND;TZID=E. Australia Standard Time:20260517T120000
SUMMARY:Liqueur Making Class
DESCRIPTION:You must book before attending. To learn more about this class and to book\, \n                                    please visit ClassBento's website via the 'Access Event' button above.
LOCATION:\, Tamborine Mountain QLD 4272\, QLD\, 4272
END:VEVENT
END:VCALENDAR
