BEGIN:VCALENDAR
VERSION:2.0
PRODID:-//My Community Diary//iCal Event//EN
CALSCALE:GREGORIAN
METHOD:PUBLISH
BEGIN:VEVENT
UID:5df22e25-d335-4602-ab3f-358515db436f
DTSTAMP:20260422T071651Z
DTSTART;TZID=E. Australia Standard Time:20260517T130000
DTEND;TZID=E. Australia Standard Time:20260517T150000
SUMMARY:Drawing Workshop with Pens and Pencils
DESCRIPTION:You must book before attending. To learn more about this class and to book\, \n                                    please visit ClassBento's website via the 'Access Event' button above.
LOCATION:\, 184 Main Street\, Montville QLD\, QLD\, 4560
END:VEVENT
END:VCALENDAR
