BEGIN:VCALENDAR
VERSION:2.0
PRODID:-//My Community Diary//iCal Event//EN
CALSCALE:GREGORIAN
METHOD:PUBLISH
BEGIN:VEVENT
UID:e243b705-cb77-49a7-a799-eee3ab4a1615
DTSTAMP:20260422T002000Z
DTSTART;TZID=E. Australia Standard Time:20260501T153000
DTEND;TZID=E. Australia Standard Time:20260501T163000
SUMMARY:Distillery Tour and Tasting
DESCRIPTION:You must book before attending. To learn more about this class and to book\, \n                                    please visit ClassBento's website via the 'Access Event' button above.
LOCATION:\, Tamborine Mountain QLD 4272\, QLD\, 4272
END:VEVENT
END:VCALENDAR
