BEGIN:VCALENDAR
VERSION:2.0
PRODID:-//My Community Diary//iCal Event//EN
CALSCALE:GREGORIAN
METHOD:PUBLISH
BEGIN:VEVENT
UID:19966772-b827-4cd9-ad44-caeb411d8798
DTSTAMP:20260422T001941Z
DTSTART;TZID=E. Australia Standard Time:20260516T090000
DTEND;TZID=E. Australia Standard Time:20260516T110000
SUMMARY:Beginners Pottery Wheel Workshop
DESCRIPTION:You must book before attending. To learn more about this class and to book\, \n                                    please visit ClassBento's website via the 'Access Event' button above.
LOCATION:\, 184 Main Street\, Montville QLD\, QLD\, 4560
END:VEVENT
END:VCALENDAR
