BEGIN:VCALENDAR
VERSION:2.0
PRODID:-//My Community Diary//iCal Event//EN
CALSCALE:GREGORIAN
METHOD:PUBLISH
BEGIN:VEVENT
UID:46683d95-8c9b-47ac-9d03-6439c6369b6f
DTSTAMP:20260422T052851Z
DTSTART;TZID=E. Australia Standard Time:20260514T160000
DTEND;TZID=E. Australia Standard Time:20260514T180000
SUMMARY:Lost Wax Ring Carving Workshop
DESCRIPTION:You must book before attending. To learn more about this class and to book\, \n                                    please visit ClassBento's website via the 'Access Event' button above.
LOCATION:\, 79 Memorial Drive\, Eumundi QLD\, QLD\, 4562
END:VEVENT
END:VCALENDAR
