BEGIN:VCALENDAR
VERSION:2.0
PRODID:-//My Community Diary//iCal Event//EN
CALSCALE:GREGORIAN
METHOD:PUBLISH
BEGIN:VEVENT
UID:be3f88a8-2487-440b-9c71-9402c19ad2c4
DTSTAMP:20260423T084820Z
DTSTART;TZID=E. Australia Standard Time:20260513T143000
DTEND;TZID=E. Australia Standard Time:20260513T160000
SUMMARY:Make a Buddha Bowl Class
DESCRIPTION:You must book before attending. To learn more about this class and to book\, \n                                    please visit ClassBento's website via the 'Access Event' button above.
LOCATION:\, 161 Long Road\, Tamborine Mountain QLD\, QLD\, 4272
END:VEVENT
END:VCALENDAR
