BEGIN:VCALENDAR
VERSION:2.0
PRODID:-//My Community Diary//iCal Event//EN
CALSCALE:GREGORIAN
METHOD:PUBLISH
BEGIN:VEVENT
UID:1d33a939-1043-43e4-a8e0-b49b880d1aa0
DTSTAMP:20260421T223051Z
DTSTART;TZID=E. Australia Standard Time:20260511T143000
DTEND;TZID=E. Australia Standard Time:20260511T160000
SUMMARY:Paint and Spin Wheel Throwing Class
DESCRIPTION:You must book before attending. To learn more about this class and to book\, \n                                    please visit ClassBento's website via the 'Access Event' button above.
LOCATION:\, 161 Long Road\, Tamborine Mountain QLD\, QLD\, 4272
END:VEVENT
END:VCALENDAR
