BEGIN:VCALENDAR
VERSION:2.0
PRODID:-//My Community Diary//iCal Event//EN
CALSCALE:GREGORIAN
METHOD:PUBLISH
BEGIN:VEVENT
UID:87beb20c-c2e9-4a72-b1c8-302e36d5125a
DTSTAMP:20260422T000851Z
DTSTART;TZID=E. Australia Standard Time:20260424T133000
DTEND;TZID=E. Australia Standard Time:20260424T143000
SUMMARY:Distillery Tour and Tasting
DESCRIPTION:You must book before attending. To learn more about this class and to book\, \n                                    please visit ClassBento's website via the 'Access Event' button above.
LOCATION:\, Tamborine Mountain QLD 4272\, QLD\, 4272
END:VEVENT
END:VCALENDAR
