BEGIN:VCALENDAR
VERSION:2.0
PRODID:-//My Community Diary//iCal Event//EN
CALSCALE:GREGORIAN
METHOD:PUBLISH
BEGIN:VEVENT
UID:6ed3757a-1cf7-436a-8cc5-9c33d5a9ba56
DTSTAMP:20260421T222307Z
DTSTART:20260623T080000Z
DTEND:20260623T170000Z
SUMMARY:Psychology
DESCRIPTION:This event is provided by DA Peters & LE Peters at MIDIN CLINIC. Please confirm precise times with the service provider. (www.actpsychology.com.au)\nDA Peters & LE Peters has experience in the following: Provision of Psychological services to Indigenous Clients for 20 years
LOCATION:\, 31-33 Robert Street\, Atherton\, QLD\, 4883\, QLD\, 4883
END:VEVENT
END:VCALENDAR
