BEGIN:VCALENDAR
VERSION:2.0
PRODID:-//My Community Diary//iCal Event//EN
CALSCALE:GREGORIAN
METHOD:PUBLISH
BEGIN:VEVENT
UID:3ba47316-0f89-4041-9402-335c033cdc83
DTSTAMP:20260422T015803Z
DTSTART;TZID=E. Australia Standard Time:20260509T090000
DTEND;TZID=E. Australia Standard Time:20260509T170000
SUMMARY:E-Bike and Picnic Experience: Cycle and Savour
DESCRIPTION:You must book before attending. To learn more about this class and to book\, \n                                    please visit ClassBento's website via the 'Access Event' button above.
LOCATION:\, 43 Main St\, Tamborine Mountain\, QLD\, QLD\, 4272
END:VEVENT
END:VCALENDAR
