BEGIN:VCALENDAR
VERSION:2.0
PRODID:-//My Community Diary//iCal Event//EN
CALSCALE:GREGORIAN
METHOD:PUBLISH
BEGIN:VEVENT
UID:f3be9d4b-ea6b-4acd-aef9-fe8dd90cdfde
DTSTAMP:20260421T222633Z
DTSTART;TZID=E. Australia Standard Time:20260503T130000
DTEND;TZID=E. Australia Standard Time:20260503T150000
SUMMARY:Beginners Pottery Wheel Workshop
DESCRIPTION:You must book before attending. To learn more about this class and to book\, \n                                    please visit ClassBento's website via the 'Access Event' button above.
LOCATION:\, 184 Main Street\, Montville QLD\, QLD\, 4560
END:VEVENT
END:VCALENDAR
