BEGIN:VCALENDAR
VERSION:2.0
PRODID:-//My Community Diary//iCal Event//EN
CALSCALE:GREGORIAN
METHOD:PUBLISH
BEGIN:VEVENT
UID:289d8f66-5066-4919-8168-5e5ce23afae0
DTSTAMP:20260421T222833Z
DTSTART;TZID=E. Australia Standard Time:20260509T090000
DTEND;TZID=E. Australia Standard Time:20260509T110000
SUMMARY:Intuitive Painting Class
DESCRIPTION:You must book before attending. To learn more about this class and to book\, \n                                    please visit ClassBento's website via the 'Access Event' button above.
LOCATION:\, 184 Main Street\, Montville QLD\, QLD\, 4560
END:VEVENT
END:VCALENDAR
