BEGIN:VCALENDAR
VERSION:2.0
PRODID:-//My Community Diary//iCal Event//EN
CALSCALE:GREGORIAN
METHOD:PUBLISH
BEGIN:VEVENT
UID:eafb7cbc-184f-4a40-85b8-3dab7669739c
DTSTAMP:20260424T173828Z
DTSTART;TZID=AUS Eastern Standard Time:20200329T093000
DTEND;TZID=AUS Eastern Standard Time:20200329T143000
SUMMARY:Harmony Festival 2020 POSTPONED DATE TO BE CONFIRMED
DESCRIPTION:CHCC update regarding the Novel Coronavirus (COVID-19) pandemic:\n\nThe safety and wellbeing of our employees\, volunteers and customers is a priority for Coffs Harbour City Council and we are following the advice of the Australian Government\, World Health Organisation (WHO) and NSW Health in the implementation of workplace measures to help minimise any possible infections. Council is taking a risk management approach to the pandemic and seeking to minimise any potential impact.\n\nAs result all Council events and public programs run in our facilities have been postponed or suspended until the situation is reviewed again on 14 April 2020.\n\nWe please ask that if you are showing any of the symptoms of COVID-19\, or have been in contact with anyone who has been diagnosed or showing symptoms of COVID-19\, that you not use a Council facility at this time.\n\nFor more information visit: https://www.news.coffsharbour.nsw.gov.au/2020/03/16/councils-novel-coronavirus-covid-19-safety-measures/\n\nHarmony Festival is back for 2020 – bigger\, bolder and tastier than ever! Celebrating everyone’s journey to calling Coffs home\, experience Coffs Coast’s most culturally exotic\, action-packed\, and soul nourishing family-friendly fiesta as the lush and leafy surroundings of Coffs Botanic Gardens erupt in a kaleidoscope of colour\, delectable aromas and hands-on fun.&nbsp\;&nbsp\;\n\nMAIN STAGE\nFeaturing the cream of local cultural performers and some very special guests\, the main stage ramps the excitement factor up to 11 with over 20 authentic and amazing acts from around the globe and just down the road.\n\nKick back in the shady garden surrounds\, soak up the festive atmosphere and get treated to the most dynamic\, colourful and action packed program of non-stop live music and dance performance as continents converge in the heart of Coffs\, or join the party with loads of crowd interaction on offer including a limbo competition with wicked prizes.\n\nThis year’s very special guests include the triumphant homecoming of local legend and dance and music maestro Yt Dingo aka Travers Ross as he drops his new EP on his epic journey from Splendour in the Grass to new frontiers of his current Australian East Coast tour. More announcements to come.\n\nIMMERSE and CONNECT\nDeepen your connection in Gumbaynggirr Nguura Aboriginal welcoming space - the living heart of the festival. Taste authentic bush tucker\, get painted in ochre\, sit fireside with traditional weavers. Don’t miss the start of festival as Wadjar Ngarlu dancers open the event with powerful dance performance and the traditional lighting of sacred fire that burns throughout the day until the dancers again lead the community parade finale.&nbsp\;\n\nExperience the warmest of welcomes in the Melting Pot – our authentic interactive cultural immersion space where the buzz of an overseas marketplace meets the warmth of a cultural community lounge room.&nbsp\; Share in a traditional Ethiopian / Eritrean Coffee Ceremony\, taste and learn traditional Middle Eastern bread baking and hommous making\, style up for the day with henna and African hairbrading in The Salon\, and uncover treasure in our exciting new market bazaar with stunning craft\, jewellery and more lovingly made by local cultural artisans.\n\nDANCE and JAM\nThe Beats and Feets drum and dance tent is your all day hands-on cross-cultural action station to nourish your soul and shake your booty. Start your day with devotional Indian chants and the colourful instruments of local cosmic kirtanists\, Devi Das. Shake your shanks and super charge your smile with infectious fun of Bollywood dance. Feel the love with Dances of Universal Peace. Bring an instrument or grab one there and let mad musical mayhem reign with Uncle Martin’s Jam and grab a drum and grow the groove with Kaya Boom’s sizzling samba soul session. &nbsp\;&nbsp\;\n\nEAT\nNestled amongst a lush garden trail\, follow your nose to the Flavourhood Food Walk\, with the sizzling woks and bubbling pots of the most delectable multicultural food experience on offer anywhere on the Coffs coast. Let your taste buds journey a gamut of cultural cuisines including traditional home cooked delicacies you just won’t find at any other market.\n\nPLAY and CREATE\nGet down and dirty at Planet Coffs - our fully sustainable family friendly creative nature play adventure zone that celebrates the natural beauty of this paradise we all call home.&nbsp\; Build your utopia in the bustling cardboard cubby kingdom and hay bale heaven. Bring the trees to life on clay bombing escapades.&nbsp\; See the giant bower and join a treasure hunt throughout the festival grounds to see if we can collect enough blue materials to lure out the giant bowerbird.&nbsp\; Help create a giant 30 metre mural with piles of hands-on art and craft activities to tell story of who we are and what we love about our beautiful Coffs coast home.\n\nThink you’re pretty good at shooting hoops?&nbsp\; Come try your luck and have fun as local emergency services host an all-in basketball free throw competition with way cool prizes and the glory of being crowned Queen or King of the Harmony ring.\n\nUNITE and CELEBRATE!\nThe non-stop action all culminates at 2pm with the drumming in of the community parade! Led by traditional Gumbaynggirr dancers\, join the procession with hundreds of drummers cultural dancers and or just soak up the spectacle as it snakes its way through the festival grounds to main stage climax with gigantic cross cultural dance off and explosive holi powder rainbow colour run finale!\n\nCome and uncover your common ground.\n\nDate: Sunday 29 March 2020\n\nTime: 9:30am - 2:30pm\n\nWhere: North Coast Regional Botanic Garden\n\nCost: Gold coin entry\n\nEveryone welcome\n\nWant to get involved? We welcome applications for Volunteers!\n\n&nbsp\;\n
LOCATION:North Coast Regional Botanic Garden\, Hardacre and Coff Street  Coffs Harbour NSW 2450\, NSW\, 2450
END:VEVENT
END:VCALENDAR
