BEGIN:VCALENDAR
VERSION:2.0
PRODID:-//My Community Diary//iCal Event//EN
CALSCALE:GREGORIAN
METHOD:PUBLISH
BEGIN:VEVENT
UID:f45c5344-560e-442a-aa43-1caa37e86b95
DTSTAMP:20260421T211557Z
DTSTART;TZID=E. Australia Standard Time:20260423T160000
DTEND;TZID=E. Australia Standard Time:20260423T180000
SUMMARY:Lost Wax Ring Carving Workshop
DESCRIPTION:You must book before attending. To learn more about this class and to book\, \n                                    please visit ClassBento's website via the 'Access Event' button above.
LOCATION:\, 79 Memorial Drive\, Eumundi QLD\, QLD\, 4562
END:VEVENT
END:VCALENDAR
