BEGIN:VCALENDAR
VERSION:2.0
PRODID:-//My Community Diary//iCal Event//EN
CALSCALE:GREGORIAN
METHOD:PUBLISH
BEGIN:VEVENT
UID:e9a3b5b4-5781-4162-b8c2-7a44b2f5c6bb
DTSTAMP:20260422T000638Z
DTSTART;TZID=E. Australia Standard Time:20260504T163000
DTEND;TZID=E. Australia Standard Time:20260504T180000
SUMMARY:Creative Art Course for Teens
DESCRIPTION:You must book before attending. To learn more about this class and to book\, \n                                    please visit ClassBento's website via the 'Access Event' button above.
LOCATION:\, 11 Timbarra Drive\, Beechmont QLD\, QLD\, 4211
END:VEVENT
END:VCALENDAR
