BEGIN:VCALENDAR
VERSION:2.0
PRODID:-//My Community Diary//iCal Event//EN
CALSCALE:GREGORIAN
METHOD:PUBLISH
BEGIN:VEVENT
UID:e3f1b4f3-9a44-44f7-a657-7e3ae88ab6f8
DTSTAMP:20260422T015803Z
DTSTART;TZID=E. Australia Standard Time:20260503T143000
DTEND;TZID=E. Australia Standard Time:20260503T160000
SUMMARY:Make a Buddha Bowl Class
DESCRIPTION:You must book before attending. To learn more about this class and to book\, \n                                    please visit ClassBento's website via the 'Access Event' button above.
LOCATION:\, 161 Long Road\, Tamborine Mountain QLD\, QLD\, 4272
END:VEVENT
END:VCALENDAR
