BEGIN:VCALENDAR
VERSION:2.0
PRODID:-//My Community Diary//iCal Event//EN
CALSCALE:GREGORIAN
METHOD:PUBLISH
BEGIN:VEVENT
UID:6c64a69a-0e2b-49c7-9ead-0781242ecc76
DTSTAMP:20260422T013952Z
DTSTART;TZID=E. Australia Standard Time:20260503T100000
DTEND;TZID=E. Australia Standard Time:20260503T113000
SUMMARY:Terracotta Wheel Throwing Class
DESCRIPTION:You must book before attending. To learn more about this class and to book\, \n                                    please visit ClassBento's website via the 'Access Event' button above.
LOCATION:\, 161 Long Road\, Tamborine Mountain QLD\, QLD\, 4272
END:VEVENT
END:VCALENDAR
