BEGIN:VCALENDAR
VERSION:2.0
PRODID:-//My Community Diary//iCal Event//EN
CALSCALE:GREGORIAN
METHOD:PUBLISH
BEGIN:VEVENT
UID:43977e24-1a03-4ca9-8440-8f479a4ff7e2
DTSTAMP:20260422T001012Z
DTSTART:20260517T080000Z
DTEND:20260517T170000Z
SUMMARY:Optometry
DESCRIPTION:This event is provided by Michael H & Lynette G Young at CWAATSICH - Mitchell. Please confirm precise times with the service provider. (www.youngoptom.com.au)\nMichael H & Lynette G Young has experience in the following: Commenced working with Regional Eye Coordinators in 2000.\nCurrently work directly with CWAATSICH
LOCATION:\, 46 Cambridge Street\, Mitchell\, QLD\, 4465\, QLD\, 4465
END:VEVENT
END:VCALENDAR
