BEGIN:VCALENDAR
VERSION:2.0
PRODID:-//My Community Diary//iCal Event//EN
CALSCALE:GREGORIAN
METHOD:PUBLISH
BEGIN:VEVENT
UID:853d0fb3-3a01-4c3d-81fe-fd27ee8c36f3
DTSTAMP:20260422T013946Z
DTSTART:20260515T080000Z
DTEND:20260515T170000Z
SUMMARY:Nurse Practitioner - Diabetes
DESCRIPTION:This event is provided by Diabetes & Health Solutions at Ravenshoe Medical Practice. Please confirm precise times with the service provider. (www.dahs.com.au)\nDiabetes & Health Solutions has experience in the following: We provide Aboriginal and Torres strait Islander education to MAMU\, Mulungu & Gurriny
LOCATION:\, 62 Grigg Street\, Ravenshoe\, QLD\, 4888\, QLD\, 4888
END:VEVENT
END:VCALENDAR
