BEGIN:VCALENDAR
VERSION:2.0
PRODID:-//My Community Diary//iCal Event//EN
CALSCALE:GREGORIAN
METHOD:PUBLISH
BEGIN:VEVENT
UID:cda7707d-a416-4f52-856a-f664285ccb58
DTSTAMP:20260422T002148Z
DTSTART;TZID=E. Australia Standard Time:20260502T100000
DTEND;TZID=E. Australia Standard Time:20260502T120000
SUMMARY:Punch Needle Workshop: Rug Making
DESCRIPTION:You must book before attending. To learn more about this class and to book\, \n                                    please visit ClassBento's website via the 'Access Event' button above.
LOCATION:\, 8 Griffith St\, Tamborine Mountain QLD\, QLD\, 4272
END:VEVENT
END:VCALENDAR
