BEGIN:VCALENDAR
VERSION:2.0
PRODID:-//My Community Diary//iCal Event//EN
CALSCALE:GREGORIAN
METHOD:PUBLISH
BEGIN:VEVENT
UID:f60bcfd3-a656-4d98-b55d-3a362031335c
DTSTAMP:20260422T013836Z
DTSTART;TZID=E. Australia Standard Time:20260501T153000
DTEND;TZID=E. Australia Standard Time:20260501T170000
SUMMARY:Make a Buddha Bowl Class
DESCRIPTION:You must book before attending. To learn more about this class and to book\, \n                                    please visit ClassBento's website via the 'Access Event' button above.
LOCATION:\, 161 Long Road\, Tamborine Mountain QLD\, QLD\, 4272
END:VEVENT
END:VCALENDAR
