BEGIN:VCALENDAR
VERSION:2.0
PRODID:-//My Community Diary//iCal Event//EN
CALSCALE:GREGORIAN
METHOD:PUBLISH
BEGIN:VEVENT
UID:d2ac2891-5579-42f4-8d38-0d7e29b6078d
DTSTAMP:20260422T013723Z
DTSTART;TZID=E. Australia Standard Time:20260427T163000
DTEND;TZID=E. Australia Standard Time:20260427T180000
SUMMARY:Creative Art Course for Teens
DESCRIPTION:You must book before attending. To learn more about this class and to book\, \n                                    please visit ClassBento's website via the 'Access Event' button above.
LOCATION:\, 11 Timbarra Drive\, Beechmont QLD\, QLD\, 4211
END:VEVENT
END:VCALENDAR
