BEGIN:VCALENDAR
VERSION:2.0
PRODID:-//My Community Diary//iCal Event//EN
CALSCALE:GREGORIAN
METHOD:PUBLISH
BEGIN:VEVENT
UID:910506e2-e074-4e42-b5dd-a6961a9e69b0
DTSTAMP:20260421T222449Z
DTSTART;TZID=E. Australia Standard Time:20260428T100000
DTEND;TZID=E. Australia Standard Time:20260428T113000
SUMMARY:Terracotta Wheel Throwing Class
DESCRIPTION:You must book before attending. To learn more about this class and to book\, \n                                    please visit ClassBento's website via the 'Access Event' button above.
LOCATION:\, 161 Long Road\, Tamborine Mountain QLD\, QLD\, 4272
END:VEVENT
END:VCALENDAR
