BEGIN:VCALENDAR
VERSION:2.0
PRODID:-//My Community Diary//iCal Event//EN
CALSCALE:GREGORIAN
METHOD:PUBLISH
BEGIN:VEVENT
UID:262f2bc4-83df-4372-b19f-3ed2fd9906c2
DTSTAMP:20260421T224201Z
DTSTART;TZID=E. Australia Standard Time:20260426T130000
DTEND;TZID=E. Australia Standard Time:20260426T150000
SUMMARY:Kids Beginners Pottery Wheel Workshop
DESCRIPTION:You must book before attending. To learn more about this class and to book\, \n                                    please visit ClassBento's website via the 'Access Event' button above.
LOCATION:\, 184 Main Street\, Montville QLD\, QLD\, 4560
END:VEVENT
END:VCALENDAR
