BEGIN:VCALENDAR
VERSION:2.0
PRODID:-//My Community Diary//iCal Event//EN
CALSCALE:GREGORIAN
METHOD:PUBLISH
BEGIN:VEVENT
UID:3be39535-ce4d-482e-a269-723ff9a8e103
DTSTAMP:20260422T013823Z
DTSTART;TZID=E. Australia Standard Time:20260426T143000
DTEND;TZID=E. Australia Standard Time:20260426T160000
SUMMARY:Make a Buddha Bowl Class
DESCRIPTION:You must book before attending. To learn more about this class and to book\, \n                                    please visit ClassBento's website via the 'Access Event' button above.
LOCATION:\, 161 Long Road\, Tamborine Mountain QLD\, QLD\, 4272
END:VEVENT
END:VCALENDAR
