BEGIN:VCALENDAR
VERSION:2.0
PRODID:-//My Community Diary//iCal Event//EN
CALSCALE:GREGORIAN
METHOD:PUBLISH
BEGIN:VEVENT
UID:5fbb5bbd-d380-4ea6-b140-1ec50336dfa3
DTSTAMP:20260421T211430Z
DTSTART;TZID=E. Australia Standard Time:20260425T090000
DTEND;TZID=E. Australia Standard Time:20260425T170000
SUMMARY:E-Bike and Picnic Experience: Cycle and Savour
DESCRIPTION:You must book before attending. To learn more about this class and to book\, \n                                    please visit ClassBento's website via the 'Access Event' button above.
LOCATION:\, 43 Main St\, Tamborine Mountain\, QLD\, QLD\, 4272
END:VEVENT
END:VCALENDAR
