BEGIN:VCALENDAR
VERSION:2.0
PRODID:-//My Community Diary//iCal Event//EN
CALSCALE:GREGORIAN
METHOD:PUBLISH
BEGIN:VEVENT
UID:0e4bd57e-dd35-49d0-9c45-06bd6fedfa32
DTSTAMP:20260421T222216Z
DTSTART;TZID=E. Australia Standard Time:20260425T090000
DTEND;TZID=E. Australia Standard Time:20260425T110000
SUMMARY:Intuitive Painting Class
DESCRIPTION:You must book before attending. To learn more about this class and to book\, \n                                    please visit ClassBento's website via the 'Access Event' button above.
LOCATION:\, 184 Main Street\, Montville QLD\, QLD\, 4560
END:VEVENT
END:VCALENDAR
