BEGIN:VCALENDAR
VERSION:2.0
PRODID:-//My Community Diary//iCal Event//EN
CALSCALE:GREGORIAN
METHOD:PUBLISH
BEGIN:VEVENT
UID:33891b05-f9d6-4833-a91e-1b2bdb2c1f47
DTSTAMP:20260424T084014Z
DTSTART;TZID=E. Australia Standard Time:20260422T143000
DTEND;TZID=E. Australia Standard Time:20260422T160000
SUMMARY:Make a Buddha Bowl Class
DESCRIPTION:You must book before attending. To learn more about this class and to book\, \n                                    please visit ClassBento's website via the 'Access Event' button above.
LOCATION:\, 161 Long Road\, Tamborine Mountain QLD\, QLD\, 4272
END:VEVENT
END:VCALENDAR
