BEGIN:VCALENDAR
VERSION:2.0
PRODID:-//My Community Diary//iCal Event//EN
CALSCALE:GREGORIAN
METHOD:PUBLISH
BEGIN:VEVENT
UID:64be058e-73a6-4cf2-bf52-e753d766d779
DTSTAMP:20260422T021957Z
DTSTART;TZID=E. Australia Standard Time:20260724T083000
DTEND;TZID=E. Australia Standard Time:20260724T160000
SUMMARY:Queensland Outdoor Adventure Expo
DESCRIPTION:Challenge Accepted\n\nReady to take your adventures to the next level ? The Queensland Outdoor Adventure Expo is your ultimate destination for everything outdoors. Whether you’re planning an epic road trip\, upgrading your gear\, or chasing new experiences\, this is where your next challenge begins.\n\nExplore the latest in caravans\, campers\, 4×4 vehicles\, camping gear\, and outdoor accessories all in one massive event. With hundreds of exhibitors\, live entertainment\, and exclusive expo-only deals\, it’s the perfect place for outdoor lovers and adventure seekers.\n\nEvent Highlights:\n\n\n	Caravans\, camper trailers\, hybrids &amp\; 4×4 vehicles\n	Camping gear\, accessories &amp\; adventure-ready tech\n	Holiday destinations &amp\; travel inspiration\n	Live daily entertainment &amp\; family-friendly activities\n	Exclusive expo-only deals\n\n\nStep up. Gear up. Challenge Accepted.\n
LOCATION:\, Toowoomba Showgrounds Caravan Park\, Glenvale Road\, Glenvale QLD\, Australia\, QLD\, 4350
RRULE:FREQ=DAILY;INTERVAL=1;UNTIL=20260727T000000Z
END:VEVENT
END:VCALENDAR
