BEGIN:VCALENDAR
VERSION:2.0
PRODID:-//My Community Diary//iCal Event//EN
CALSCALE:GREGORIAN
METHOD:PUBLISH
BEGIN:VEVENT
UID:f5f6c1a6-8c78-4936-bb07-e9a267c0d214
DTSTAMP:20260421T205520Z
DTSTART;TZID=AUS Eastern Standard Time:20260124T100000
DTEND;TZID=AUS Eastern Standard Time:20260124T140000
SUMMARY:Weaving
DESCRIPTION:Members and interested visitors meet to weave\, share projects and help each other with advice and support.\n
LOCATION:Newcastle Spinners And Weavers Guild\, Cromwell Rd\, New Lambton NSW 2305\, NSW\, 2305
RRULE:FREQ=MONTHLY;INTERVAL=1;BYDAY=3MO
END:VEVENT
END:VCALENDAR
