BEGIN:VCALENDAR
VERSION:2.0
PRODID:-//My Community Diary//iCal Event//EN
CALSCALE:GREGORIAN
METHOD:PUBLISH
BEGIN:VEVENT
UID:9671b31e-a9fa-4869-af62-6d6af0b3ed9a
DTSTAMP:20260422T071702Z
DTSTART;TZID=E. Australia Standard Time:20260120T093000
DTEND;TZID=E. Australia Standard Time:20260120T110000
SUMMARY:GBNC's Early Years Playgroup
DESCRIPTION:Join us at Kids Korner for a fun and engaging playgroup for children aged 0–5 and their families or carers. Our free program includes morning tea and features weekly themes inspired by local\, national\, and world events\, as well as children’s interests. Inside and outside play - don't forget your hat! Pre-registration is not required.\n
LOCATION:Granite Belt Neighbourhood Centre - 8 Corundum St\, 8 Corundum St.\, Stanthorpe QLD 4380\, QLD\, 4380
RRULE:FREQ=WEEKLY;INTERVAL=1;BYDAY=TU;UNTIL=20261209T000000Z
END:VEVENT
END:VCALENDAR
